BEGIN:VCALENDAR
VERSION:2.0
PRODID:-//News from the Church of Jesus Christ in the Tallahassee Area - ECPv6.15.20//NONSGML v1.0//EN
CALSCALE:GREGORIAN
METHOD:PUBLISH
X-ORIGINAL-URL:https://tallahasseechurchofjesuschrist.com
X-WR-CALDESC:Events for News from the Church of Jesus Christ in the Tallahassee Area
REFRESH-INTERVAL;VALUE=DURATION:PT1H
X-Robots-Tag:noindex
X-PUBLISHED-TTL:PT1H
BEGIN:VTIMEZONE
TZID:America/New_York
BEGIN:DAYLIGHT
TZOFFSETFROM:-0500
TZOFFSETTO:-0400
TZNAME:EDT
DTSTART:20210314T070000
END:DAYLIGHT
BEGIN:STANDARD
TZOFFSETFROM:-0400
TZOFFSETTO:-0500
TZNAME:EST
DTSTART:20211107T060000
END:STANDARD
BEGIN:DAYLIGHT
TZOFFSETFROM:-0500
TZOFFSETTO:-0400
TZNAME:EDT
DTSTART:20220313T070000
END:DAYLIGHT
BEGIN:STANDARD
TZOFFSETFROM:-0400
TZOFFSETTO:-0500
TZNAME:EST
DTSTART:20221106T060000
END:STANDARD
BEGIN:DAYLIGHT
TZOFFSETFROM:-0500
TZOFFSETTO:-0400
TZNAME:EDT
DTSTART:20230312T070000
END:DAYLIGHT
BEGIN:STANDARD
TZOFFSETFROM:-0400
TZOFFSETTO:-0500
TZNAME:EST
DTSTART:20231105T060000
END:STANDARD
END:VTIMEZONE
BEGIN:VEVENT
DTSTART;TZID=America/New_York:20220226T173000
DTEND;TZID=America/New_York:20220226T193000
DTSTAMP:20260421T043037
CREATED:20190404T124904Z
LAST-MODIFIED:20220222T003955Z
UID:2624-1645896600-1645903800@tallahasseechurchofjesuschrist.com
SUMMARY:2022 Spring Stake Conference
DESCRIPTION:The conference theme is The Blessings of Gathering Together in Unity. We invite everyone to truly realize the uplifting joys and blessings from meeting together to worship our Savior Jesus Christ. \nMore information
URL:https://tallahasseechurchofjesuschrist.com/event/2022-spring-stake-conference-saturday-evening/
CATEGORIES:Music,Online
END:VEVENT
END:VCALENDAR